BEGIN:VCALENDAR
VERSION:2.0
PRODID:-//Lombard Mennonite Church - ECPv6.15.20//NONSGML v1.0//EN
CALSCALE:GREGORIAN
METHOD:PUBLISH
X-ORIGINAL-URL:https://lombardmennonite.org
X-WR-CALDESC:Events for Lombard Mennonite Church
REFRESH-INTERVAL;VALUE=DURATION:PT1H
X-Robots-Tag:noindex
X-PUBLISHED-TTL:PT1H
BEGIN:VTIMEZONE
TZID:America/Chicago
BEGIN:DAYLIGHT
TZOFFSETFROM:-0600
TZOFFSETTO:-0500
TZNAME:CDT
DTSTART:20240310T080000
END:DAYLIGHT
BEGIN:STANDARD
TZOFFSETFROM:-0500
TZOFFSETTO:-0600
TZNAME:CST
DTSTART:20241103T070000
END:STANDARD
BEGIN:DAYLIGHT
TZOFFSETFROM:-0600
TZOFFSETTO:-0500
TZNAME:CDT
DTSTART:20250309T080000
END:DAYLIGHT
BEGIN:STANDARD
TZOFFSETFROM:-0500
TZOFFSETTO:-0600
TZNAME:CST
DTSTART:20251102T070000
END:STANDARD
BEGIN:DAYLIGHT
TZOFFSETFROM:-0600
TZOFFSETTO:-0500
TZNAME:CDT
DTSTART:20260308T080000
END:DAYLIGHT
BEGIN:STANDARD
TZOFFSETFROM:-0500
TZOFFSETTO:-0600
TZNAME:CST
DTSTART:20261101T070000
END:STANDARD
END:VTIMEZONE
BEGIN:VEVENT
DTSTART;TZID=America/Chicago:20250906T000000
DTEND;TZID=America/Chicago:20250907T235959
DTSTAMP:20260419T160913
CREATED:20240826T001551Z
LAST-MODIFIED:20250726T050846Z
UID:585-1757116800-1757289599@lombardmennonite.org
SUMMARY:Church Retreat at Camp Menno Haven
DESCRIPTION:It’s our annual church retreat weekend at Camp Menno Haven in Tiskilwa! Check-in begins at 1:00 PM. (Pre-registration is required.)
URL:https://lombardmennonite.org/event/church-retreat-at-camp-menno-haven/
LOCATION:Menno Haven Camp & Retreat Center\, 9301 1575 E St\, Tiskilwa\, IL\, 61368
END:VEVENT
BEGIN:VEVENT
DTSTART;TZID=America/Chicago:20250914T113000
DTEND;TZID=America/Chicago:20250914T121500
DTSTAMP:20260419T160913
CREATED:20240905T015310Z
LAST-MODIFIED:20250903T170738Z
UID:631-1757849400-1757852100@lombardmennonite.org
SUMMARY:Sunday School Classes Begin!
DESCRIPTION:We kick off fall Christian Formation activities for all ages. We’ll have two classes for adults: a continuation of the Bible in a Year class and a special session with guest preacher Tony Deik and LMCer Jamie Huff. They will share about the outcomes of the July Peacebuilding Summit: Palestine in Comparative Perspective event.
URL:https://lombardmennonite.org/event/sunday-school-classes-begin/
LOCATION:Lombard Mennonite Church\, 528 E Madison\, Lombard\, IL\, 60148
END:VEVENT
END:VCALENDAR