BEGIN:VCALENDAR
VERSION:2.0
PRODID:-//Lombard Mennonite Church - ECPv6.15.20//NONSGML v1.0//EN
CALSCALE:GREGORIAN
METHOD:PUBLISH
X-WR-CALNAME:Lombard Mennonite Church
X-ORIGINAL-URL:https://lombardmennonite.org
X-WR-CALDESC:Events for Lombard Mennonite Church
REFRESH-INTERVAL;VALUE=DURATION:PT1H
X-Robots-Tag:noindex
X-PUBLISHED-TTL:PT1H
BEGIN:VTIMEZONE
TZID:America/Chicago
BEGIN:DAYLIGHT
TZOFFSETFROM:-0600
TZOFFSETTO:-0500
TZNAME:CDT
DTSTART:20250309T080000
END:DAYLIGHT
BEGIN:STANDARD
TZOFFSETFROM:-0500
TZOFFSETTO:-0600
TZNAME:CST
DTSTART:20251102T070000
END:STANDARD
BEGIN:DAYLIGHT
TZOFFSETFROM:-0600
TZOFFSETTO:-0500
TZNAME:CDT
DTSTART:20260308T080000
END:DAYLIGHT
BEGIN:STANDARD
TZOFFSETFROM:-0500
TZOFFSETTO:-0600
TZNAME:CST
DTSTART:20261101T070000
END:STANDARD
BEGIN:DAYLIGHT
TZOFFSETFROM:-0600
TZOFFSETTO:-0500
TZNAME:CDT
DTSTART:20270314T080000
END:DAYLIGHT
BEGIN:STANDARD
TZOFFSETFROM:-0500
TZOFFSETTO:-0600
TZNAME:CST
DTSTART:20271107T070000
END:STANDARD
END:VTIMEZONE
BEGIN:VEVENT
DTSTART;TZID=America/Chicago:20260118T100000
DTEND;TZID=America/Chicago:20260118T111500
DTSTAMP:20260419T081033
CREATED:20251222T183943Z
LAST-MODIFIED:20260113T164112Z
UID:3081-1768730400-1768734900@lombardmennonite.org
SUMMARY:MLK Sunday
DESCRIPTION:On this weekend of Martin Luther King Jr. Day\, Pastor Richard will preach on John 1: 35–51. He writes\, “This text\, which picks up where last week’s reading left off\, tells of Jesus calling his first disciples. Twice in the passage\, potential followers of Jesus are invited to ‘Come and see.’ Martin Luther King\, Jr was someone who modeled a faithful response to this invitation\, and whose vision helped others to ‘come and see’ as well.”
URL:https://lombardmennonite.org/event/mlk-sunday/
LOCATION:LMC & Streaming
END:VEVENT
END:VCALENDAR