BEGIN:VCALENDAR
VERSION:2.0
PRODID:-//Lombard Mennonite Church - ECPv6.15.20//NONSGML v1.0//EN
CALSCALE:GREGORIAN
METHOD:PUBLISH
X-ORIGINAL-URL:https://lombardmennonite.org
X-WR-CALDESC:Events for Lombard Mennonite Church
REFRESH-INTERVAL;VALUE=DURATION:PT1H
X-Robots-Tag:noindex
X-PUBLISHED-TTL:PT1H
BEGIN:VTIMEZONE
TZID:America/Chicago
BEGIN:DAYLIGHT
TZOFFSETFROM:-0600
TZOFFSETTO:-0500
TZNAME:CDT
DTSTART:20240310T080000
END:DAYLIGHT
BEGIN:STANDARD
TZOFFSETFROM:-0500
TZOFFSETTO:-0600
TZNAME:CST
DTSTART:20241103T070000
END:STANDARD
BEGIN:DAYLIGHT
TZOFFSETFROM:-0600
TZOFFSETTO:-0500
TZNAME:CDT
DTSTART:20250309T080000
END:DAYLIGHT
BEGIN:STANDARD
TZOFFSETFROM:-0500
TZOFFSETTO:-0600
TZNAME:CST
DTSTART:20251102T070000
END:STANDARD
BEGIN:DAYLIGHT
TZOFFSETFROM:-0600
TZOFFSETTO:-0500
TZNAME:CDT
DTSTART:20260308T080000
END:DAYLIGHT
BEGIN:STANDARD
TZOFFSETFROM:-0500
TZOFFSETTO:-0600
TZNAME:CST
DTSTART:20261101T070000
END:STANDARD
END:VTIMEZONE
BEGIN:VEVENT
DTSTART;TZID=America/Chicago:20251102T100000
DTEND;TZID=America/Chicago:20251102T111500
DTSTAMP:20260419T232813
CREATED:20250903T172239Z
LAST-MODIFIED:20251027T155417Z
UID:2521-1762077600-1762082100@lombardmennonite.org
SUMMARY:Worship Service: All Saints Sunday
DESCRIPTION:We’ll honor those who have gone before us in the family of faith. In lieu of a sermon\, we’ll enjoy a hymn sing together. We’ll also have a time of candle lighting in honor of those who have passed on.
URL:https://lombardmennonite.org/event/worship-service-all-saints-sunday/
LOCATION:LMC & Streaming
END:VEVENT
BEGIN:VEVENT
DTSTART;TZID=America/Chicago:20251102T123000
DTEND;TZID=America/Chicago:20251102T143000
DTSTAMP:20260419T232813
CREATED:20240916T220619Z
LAST-MODIFIED:20251017T191803Z
UID:846-1762086600-1762093800@lombardmennonite.org
SUMMARY:Pizza with the Pastors
DESCRIPTION:We invite newer attendees of LMC to join the pastors for lunch after the worship service. It’s a great chance to get to know Pastors Barb\, Richard\, and Nathan better\, while they get to know you better. If you would like to attend\, please contact the church office.
URL:https://lombardmennonite.org/event/pizza-with-the-pastors/
LOCATION:Lombard Mennonite Church\, 528 E Madison\, Lombard\, IL\, 60148
END:VEVENT
END:VCALENDAR