BEGIN:VCALENDAR
VERSION:2.0
PRODID:-//Lombard Mennonite Church - ECPv6.15.20//NONSGML v1.0//EN
CALSCALE:GREGORIAN
METHOD:PUBLISH
X-ORIGINAL-URL:https://lombardmennonite.org
X-WR-CALDESC:Events for Lombard Mennonite Church
REFRESH-INTERVAL;VALUE=DURATION:PT1H
X-Robots-Tag:noindex
X-PUBLISHED-TTL:PT1H
BEGIN:VTIMEZONE
TZID:America/Chicago
BEGIN:DAYLIGHT
TZOFFSETFROM:-0600
TZOFFSETTO:-0500
TZNAME:CDT
DTSTART:20240310T080000
END:DAYLIGHT
BEGIN:STANDARD
TZOFFSETFROM:-0500
TZOFFSETTO:-0600
TZNAME:CST
DTSTART:20241103T070000
END:STANDARD
BEGIN:DAYLIGHT
TZOFFSETFROM:-0600
TZOFFSETTO:-0500
TZNAME:CDT
DTSTART:20250309T080000
END:DAYLIGHT
BEGIN:STANDARD
TZOFFSETFROM:-0500
TZOFFSETTO:-0600
TZNAME:CST
DTSTART:20251102T070000
END:STANDARD
BEGIN:DAYLIGHT
TZOFFSETFROM:-0600
TZOFFSETTO:-0500
TZNAME:CDT
DTSTART:20260308T080000
END:DAYLIGHT
BEGIN:STANDARD
TZOFFSETFROM:-0500
TZOFFSETTO:-0600
TZNAME:CST
DTSTART:20261101T070000
END:STANDARD
END:VTIMEZONE
BEGIN:VEVENT
DTSTART;TZID=America/Chicago:20251026T121500
DTEND;TZID=America/Chicago:20251026T141500
DTSTAMP:20260419T194807
CREATED:20241007T165622Z
LAST-MODIFIED:20251017T191703Z
UID:1149-1761480900-1761488100@lombardmennonite.org
SUMMARY:Harvest Halloween Party
DESCRIPTION:Join us for the Harvest Halloween Party after Sunday school. We’ll enjoy a potluck meal together (please bring food to share)\, then play games\, hunt for chocolate\, and more! LMC will provide drinks. We love costumes; bring them for your kids to change into or wear them to church (what’s a few wriggles?). This event is geared towards families with kids up through middle school. \n 
URL:https://lombardmennonite.org/event/harvest-halloween-party/
LOCATION:Lombard Mennonite Church\, 528 E Madison\, Lombard\, IL\, 60148
END:VEVENT
END:VCALENDAR