BEGIN:VCALENDAR
VERSION:2.0
PRODID:-//Lombard Mennonite Church - ECPv6.15.20//NONSGML v1.0//EN
CALSCALE:GREGORIAN
METHOD:PUBLISH
X-ORIGINAL-URL:https://lombardmennonite.org
X-WR-CALDESC:Events for Lombard Mennonite Church
REFRESH-INTERVAL;VALUE=DURATION:PT1H
X-Robots-Tag:noindex
X-PUBLISHED-TTL:PT1H
BEGIN:VTIMEZONE
TZID:America/Chicago
BEGIN:DAYLIGHT
TZOFFSETFROM:-0600
TZOFFSETTO:-0500
TZNAME:CDT
DTSTART:20240310T080000
END:DAYLIGHT
BEGIN:STANDARD
TZOFFSETFROM:-0500
TZOFFSETTO:-0600
TZNAME:CST
DTSTART:20241103T070000
END:STANDARD
BEGIN:DAYLIGHT
TZOFFSETFROM:-0600
TZOFFSETTO:-0500
TZNAME:CDT
DTSTART:20250309T080000
END:DAYLIGHT
BEGIN:STANDARD
TZOFFSETFROM:-0500
TZOFFSETTO:-0600
TZNAME:CST
DTSTART:20251102T070000
END:STANDARD
BEGIN:DAYLIGHT
TZOFFSETFROM:-0600
TZOFFSETTO:-0500
TZNAME:CDT
DTSTART:20260308T080000
END:DAYLIGHT
BEGIN:STANDARD
TZOFFSETFROM:-0500
TZOFFSETTO:-0600
TZNAME:CST
DTSTART:20261101T070000
END:STANDARD
END:VTIMEZONE
BEGIN:VEVENT
DTSTART;TZID=America/Chicago:20250526T090000
DTEND;TZID=America/Chicago:20250526T170000
DTSTAMP:20260419T093937
CREATED:20250430T160202Z
LAST-MODIFIED:20250430T160202Z
UID:2095-1748250000-1748278800@lombardmennonite.org
SUMMARY:Menno Haven Rally Day
DESCRIPTION:This is Camp Menno Haven’s annual Open House and everyone is invited! Come for a free day of fun. Walk on the trails. Play in the gym. Go fishing. Enjoy a sno-cone. Paddle around Menno Haven’s 8-acre lake in kayaks\, canoes\, or pedal boats. Sit and relax on the patio chatting with new and old friends. Take a dip in the pool. Help camp dedicate the summer season to the Lord at the 11 am program. The Rally Day Potluck and BBQ chicken follow this program at noon. RSVP for this event and learn more at mennohaven.com/rallyday.
URL:https://lombardmennonite.org/event/menno-haven-rally-day/
LOCATION:Menno Haven Camp & Retreat Center\, 9301 1575 E St\, Tiskilwa\, IL\, 61368
END:VEVENT
END:VCALENDAR